BEGIN:VCALENDAR
VERSION:2.0
PRODID:icalendar-ruby
CALSCALE:GREGORIAN
METHOD:PUBLISH
BEGIN:VEVENT
DTSTAMP:20260424T145455Z
UID:46-1531521@tlcfresno.org
DTSTART:20261018T160000Z
DTEND:20261018T170000Z
CLASS:PUBLIC
CREATED:20260424T051734
DESCRIPTION:Chancel Choir\nThe Chancel Choir is open to all singers from ea
 rly teens on up. They rehearse every Thursday at 1:00 PM and Sunday mornin
 gs from 9:00-10:00 AM. Interested in joining? Contact Greg Panten. 
LAST-MODIFIED:20260424T051734
LOCATION:Trinity Lutheran Church
SUMMARY:Chancel Choir
URL;VALUE=URI:https://tlcfresno.org/events/chancel-choir--46/2026-10-18
ATTACH;FILENAME=Trinity_6.16.24-71.jpg;FMTTYPE=image/jpeg:https://dq5pwpg1q
 8ru0.cloudfront.net/2025/06/09/17/57/00/360d5274-4e43-44aa-9b2a-902705d195
 41/Trinity_6.16.24-71.jpg
END:VEVENT
END:VCALENDAR
